BEGIN:VCALENDAR
VERSION:2.0
PRODID:-//Frost Science - ECPv6.7.0//NONSGML v1.0//EN
CALSCALE:GREGORIAN
METHOD:PUBLISH
X-ORIGINAL-URL:https://www.frostscience.org
X-WR-CALDESC:Events for Frost Science
REFRESH-INTERVAL;VALUE=DURATION:PT1H
X-Robots-Tag:noindex
X-PUBLISHED-TTL:PT1H
BEGIN:VTIMEZONE
TZID:America/New_York
BEGIN:DAYLIGHT
TZOFFSETFROM:-0500
TZOFFSETTO:-0400
TZNAME:EDT
DTSTART:20260308T070000
END:DAYLIGHT
BEGIN:STANDARD
TZOFFSETFROM:-0400
TZOFFSETTO:-0500
TZNAME:EST
DTSTART:20261101T060000
END:STANDARD
END:VTIMEZONE
BEGIN:VEVENT
DTSTART;VALUE=DATE:20260424
DTEND;VALUE=DATE:20260428
DTSTAMP:20260419T113048
CREATED:20251226T174622Z
LAST-MODIFIED:20260402T192241Z
UID:22373-1776988800-1777334399@www.frostscience.org
SUMMARY:South Florida City Nature Challenge 2026
DESCRIPTION:Take part in a global citizen science effort to enhance our understanding of the natural world!
URL:https://www.frostscience.org/event/south-florida-city-nature-challenge-2026/
LOCATION:Florida
CATEGORIES:Volunteer
ATTACH;FMTTYPE=image/jpeg:https://www.frostscience.org/wp-content/uploads/2025/12/BioBlitz-CNC-City-Nature-Challenge-event.jpg
END:VEVENT
BEGIN:VEVENT
DTSTART;TZID=America/New_York:20260425T110000
DTEND;TZID=America/New_York:20260425T150000
DTSTAMP:20260419T113048
CREATED:20260120T211408Z
LAST-MODIFIED:20260410T192111Z
UID:22496-1777114800-1777129200@www.frostscience.org
SUMMARY:Earth Day 2026
DESCRIPTION:Discover the power of action for our planet with Frost Science this Earth Day!
URL:https://www.frostscience.org/event/earth-day-2026/
LOCATION:Florida
CATEGORIES:Special Experiences
ATTACH;FMTTYPE=image/jpeg:https://www.frostscience.org/wp-content/uploads/2026/01/Earth-Day-2026-Web-Event-Image-1.jpg
END:VEVENT
BEGIN:VEVENT
DTSTART;TZID=America/New_York:20260426T090000
DTEND;TZID=America/New_York:20260426T110000
DTSTAMP:20260419T113048
CREATED:20220331T195132Z
LAST-MODIFIED:20251226T180130Z
UID:15968-1777194000-1777201200@www.frostscience.org
SUMMARY:MUVE City Nature Challenge BioBlitz
DESCRIPTION:Join the challenge and take photos of wildlife to contribute towards scientific research!
URL:https://www.frostscience.org/event/muve-city-nature-challenge-bioblitz-2026/
LOCATION:Virginia Key North Point\, Arthur Lamb Jr Rd\, Miami\, FL\, 33149\, United States
CATEGORIES:Volunteer
ATTACH;FMTTYPE=image/jpeg:https://www.frostscience.org/wp-content/uploads/2022/03/4T5A8691-scaled.jpg
GEO:25.739723;-80.157708
X-APPLE-STRUCTURED-LOCATION;VALUE=URI;X-ADDRESS=Virginia Key North Point Arthur Lamb Jr Rd Miami FL 33149 United States;X-APPLE-RADIUS=500;X-TITLE=Arthur Lamb Jr Rd:geo:-80.157708,25.739723
END:VEVENT
BEGIN:VEVENT
DTSTART;TZID=America/New_York:20260508T190000
DTEND;TZID=America/New_York:20260508T230000
DTSTAMP:20260419T113048
CREATED:20260324T192221Z
LAST-MODIFIED:20260325T154532Z
UID:22797-1778266800-1778281200@www.frostscience.org
SUMMARY:Laser Evening
DESCRIPTION:K-Pop Demon Hunters\, Daft Punk\, Red Hot Chili Peppers\, and Bad Bunny
URL:https://www.frostscience.org/event/laser-evening-may-8/
LOCATION:Phillip and Patricia Frost Museum of Science\, 1101 Biscayne Blvd\, Miami\, FL\, 33132\, United States
CATEGORIES:Social Events
ATTACH;FMTTYPE=image/jpeg:https://www.frostscience.org/wp-content/uploads/2025/02/Bad-Bunny-Laser-800-x-800.jpg
GEO:25.7855359;-80.1879424
X-APPLE-STRUCTURED-LOCATION;VALUE=URI;X-ADDRESS=Phillip and Patricia Frost Museum of Science 1101 Biscayne Blvd Miami FL 33132 United States;X-APPLE-RADIUS=500;X-TITLE=1101 Biscayne Blvd:geo:-80.1879424,25.7855359
END:VEVENT
BEGIN:VEVENT
DTSTART;TZID=America/New_York:20260515T190000
DTEND;TZID=America/New_York:20260515T210000
DTSTAMP:20260419T113048
CREATED:20260220T225610Z
LAST-MODIFIED:20260220T225610Z
UID:22654-1778871600-1778878800@www.frostscience.org
SUMMARY:Members-Only Preview: Extreme Sports: Beyond Human Limits
DESCRIPTION:Exclusive members-only evening and preview of the new special exhibition\, Extreme Sports: Beyond Human Limits.
URL:https://www.frostscience.org/event/members-only-preview-extreme-sports-beyond-human-limits/
LOCATION:Florida
CATEGORIES:Special Experiences
ATTACH;FMTTYPE=image/png:https://www.frostscience.org/wp-content/uploads/2026/02/Members-only-preview-Extreme-Sports-Event-page-image-800-x-800-px.png
END:VEVENT
BEGIN:VEVENT
DTSTART;TZID=America/New_York:20260516T090000
DTEND;TZID=America/New_York:20260516T110000
DTSTAMP:20260419T113048
CREATED:20260311T203435Z
LAST-MODIFIED:20260408T214149Z
UID:22760-1778922000-1778929200@www.frostscience.org
SUMMARY:MUVE Volunteer Workday
DESCRIPTION:Help us enhance our coastal habitat through community science at Crandon Park. 
URL:https://www.frostscience.org/event/muve-volunteer-workday-may-2026/
LOCATION:Crandon Park North Beach Parking Lot\, 6767 Crandon Blvd.\, Key Biscayne\, FL\, 33149\, United States
CATEGORIES:Volunteer
ATTACH;FMTTYPE=image/png:https://www.frostscience.org/wp-content/uploads/2026/03/MUVE-Website-Featured-Image-800-x-800-1.png
GEO:25.7155045;-80.1513407
X-APPLE-STRUCTURED-LOCATION;VALUE=URI;X-ADDRESS=Crandon Park North Beach Parking Lot 6767 Crandon Blvd. Key Biscayne FL 33149 United States;X-APPLE-RADIUS=500;X-TITLE=6767 Crandon Blvd.:geo:-80.1513407,25.7155045
END:VEVENT
BEGIN:VEVENT
DTSTART;TZID=America/New_York:20260516T100000
DTEND;TZID=America/New_York:20260516T113000
DTSTAMP:20260419T113048
CREATED:20260311T140748Z
LAST-MODIFIED:20260311T141049Z
UID:22755-1778925600-1778931000@www.frostscience.org
SUMMARY:Just for Me: Paleontology 101
DESCRIPTION:Become a junior paleontologist.
URL:https://www.frostscience.org/event/just-for-me-paleontology-101/
LOCATION:Phillip and Patricia Frost Museum of Science\, 1101 Biscayne Blvd\, Miami\, FL\, 33132\, United States
CATEGORIES:Special Experiences
ATTACH;FMTTYPE=image/png:https://www.frostscience.org/wp-content/uploads/2026/03/J4M-Paleontology-101-Feature-Image.png
GEO:25.7855359;-80.1879424
X-APPLE-STRUCTURED-LOCATION;VALUE=URI;X-ADDRESS=Phillip and Patricia Frost Museum of Science 1101 Biscayne Blvd Miami FL 33132 United States;X-APPLE-RADIUS=500;X-TITLE=1101 Biscayne Blvd:geo:-80.1879424,25.7855359
END:VEVENT
BEGIN:VEVENT
DTSTART;TZID=America/New_York:20260606T110000
DTEND;TZID=America/New_York:20260606T150000
DTSTAMP:20260419T113048
CREATED:20260128T173208Z
LAST-MODIFIED:20260330T192711Z
UID:22548-1780743600-1780758000@www.frostscience.org
SUMMARY:World Ocean Day 2026
DESCRIPTION:Celebrate World Ocean Day at Frost Science\, where ocean science meets American ingenuity!
URL:https://www.frostscience.org/event/world-ocean-day-2026/
LOCATION:Florida
CATEGORIES:Special Experiences
ATTACH;FMTTYPE=image/jpeg:https://www.frostscience.org/wp-content/uploads/2026/01/World-Ocean-Day-2026-Event-Page-Image-800x800-1.jpg
END:VEVENT
BEGIN:VEVENT
DTSTART;TZID=America/New_York:20260608T090000
DTEND;TZID=America/New_York:20260612T173000
DTSTAMP:20260419T113048
CREATED:20260203T152521Z
LAST-MODIFIED:20260204T162745Z
UID:22514-1780909200-1781285400@www.frostscience.org
SUMMARY:Summer Camp: Chemical Connections
DESCRIPTION:From molecules to muscles\, discover chemistry in action.
URL:https://www.frostscience.org/event/summer-camp-chemical-connections-week-1/
LOCATION:Florida
CATEGORIES:Camp
ATTACH;FMTTYPE=image/png:https://www.frostscience.org/wp-content/uploads/2026/01/Week-1-Chemical-Connections-1.png
END:VEVENT
BEGIN:VEVENT
DTSTART;TZID=America/New_York:20260608T090000
DTEND;TZID=America/New_York:20260612T173000
DTSTAMP:20260419T113048
CREATED:20260203T211855Z
LAST-MODIFIED:20260204T230756Z
UID:22605-1780909200-1781285400@www.frostscience.org
SUMMARY:Camp Curiosity: Astro Engineers
DESCRIPTION:Design\, create and reach for the stars.
URL:https://www.frostscience.org/event/camp-curiosity-astro-engineers/
LOCATION:Florida
CATEGORIES:Camp
ATTACH;FMTTYPE=image/jpeg:https://www.frostscience.org/wp-content/uploads/2026/02/Astro-Engineers-Camp-Curiosity-800x800-1.jpg
END:VEVENT
BEGIN:VEVENT
DTSTART;TZID=America/New_York:20260612T190000
DTEND;TZID=America/New_York:20260612T230000
DTSTAMP:20260419T113048
CREATED:20260324T192920Z
LAST-MODIFIED:20260415T210620Z
UID:22800-1781290800-1781305200@www.frostscience.org
SUMMARY:Laser Evening
DESCRIPTION:ABBA\, Lady Gaga\, Laser Pride\, and Queen
URL:https://www.frostscience.org/event/laser-evening-june-12/
LOCATION:Phillip and Patricia Frost Museum of Science\, 1101 Biscayne Blvd\, Miami\, FL\, 33132\, United States
CATEGORIES:Social Events
ATTACH;FMTTYPE=image/jpeg:https://www.frostscience.org/wp-content/uploads/2023/12/Laser-Evening-800x800-1.jpg
GEO:25.7855359;-80.1879424
X-APPLE-STRUCTURED-LOCATION;VALUE=URI;X-ADDRESS=Phillip and Patricia Frost Museum of Science 1101 Biscayne Blvd Miami FL 33132 United States;X-APPLE-RADIUS=500;X-TITLE=1101 Biscayne Blvd:geo:-80.1879424,25.7855359
END:VEVENT
BEGIN:VEVENT
DTSTART;VALUE=DATE:20260614
DTEND;VALUE=DATE:20260621
DTSTAMP:20260419T113048
CREATED:20260227T220136Z
LAST-MODIFIED:20260227T224623Z
UID:22661-1781395200-1781999999@www.frostscience.org
SUMMARY:Digging Expedition
DESCRIPTION:Digging Expedition: Week 1
URL:https://www.frostscience.org/event/digging-expedition-week-1/
LOCATION:Havre\, Montana\, Havre\, MT\, 59501\, United States
CATEGORIES:Camp
ATTACH;FMTTYPE=image/png:https://www.frostscience.org/wp-content/uploads/2026/02/Digging-Expedition-Feature-Image.png
GEO:48.549999;-109.6840887
END:VEVENT
BEGIN:VEVENT
DTSTART;TZID=America/New_York:20260615T090000
DTEND;TZID=America/New_York:20260618T173000
DTSTAMP:20260419T113048
CREATED:20260203T153317Z
LAST-MODIFIED:20260203T153317Z
UID:22518-1781514000-1781803800@www.frostscience.org
SUMMARY:Summer Camp: Reef to Deep
DESCRIPTION:Descend into the glowing world of corals and the deep sea.
URL:https://www.frostscience.org/event/summer-camp-reef-to-deep-week-2/
LOCATION:Florida
CATEGORIES:Camp
ATTACH;FMTTYPE=image/png:https://www.frostscience.org/wp-content/uploads/2026/01/Week-2-Reef-to-Deep-Feature-Image.png
END:VEVENT
BEGIN:VEVENT
DTSTART;TZID=America/New_York:20260615T090000
DTEND;TZID=America/New_York:20260618T173000
DTSTAMP:20260419T113048
CREATED:20260203T214249Z
LAST-MODIFIED:20260204T200113Z
UID:22610-1781514000-1781803800@www.frostscience.org
SUMMARY:Camp Curiosity: Robo Academy
DESCRIPTION:Build\, code\, and tinker with technology all week long.
URL:https://www.frostscience.org/event/camp-curiosity-robo-academy/
LOCATION:Florida
CATEGORIES:Camp
ATTACH;FMTTYPE=image/jpeg:https://www.frostscience.org/wp-content/uploads/2026/02/Robo-Academy-Camp-Curiosity-800x800-1.jpg
END:VEVENT
BEGIN:VEVENT
DTSTART;TZID=America/New_York:20260622T090000
DTEND;TZID=America/New_York:20260626T173000
DTSTAMP:20260419T113048
CREATED:20260203T153637Z
LAST-MODIFIED:20260203T162543Z
UID:22521-1782118800-1782495000@www.frostscience.org
SUMMARY:Summer Camp: Robo Academy
DESCRIPTION:Build\, code\, and tinker with technology all week long.
URL:https://www.frostscience.org/event/summer-camp-robo-academy-week-3/
LOCATION:Florida
CATEGORIES:Camp
ATTACH;FMTTYPE=image/jpeg:https://www.frostscience.org/wp-content/uploads/2026/02/Summer-Camp-2026-robo-academy-week-3-800-x-800.jpg
END:VEVENT
BEGIN:VEVENT
DTSTART;TZID=America/New_York:20260622T090000
DTEND;TZID=America/New_York:20260626T173000
DTSTAMP:20260419T113048
CREATED:20260203T214840Z
LAST-MODIFIED:20260204T225801Z
UID:22613-1782118800-1782495000@www.frostscience.org
SUMMARY:Camp Curiosity: Reef to Deep
DESCRIPTION:Descend into the glowing world of corals and the deep sea.
URL:https://www.frostscience.org/event/camp-curiosity-reef-to-deep/
LOCATION:Florida
CATEGORIES:Camp
ATTACH;FMTTYPE=image/jpeg:https://www.frostscience.org/wp-content/uploads/2026/02/Reef-to-Deep-Camp-Curiosity-800-x-800.jpg
END:VEVENT
BEGIN:VEVENT
DTSTART;TZID=America/New_York:20260629T090000
DTEND;TZID=America/New_York:20260702T173000
DTSTAMP:20260419T113048
CREATED:20260203T155104Z
LAST-MODIFIED:20260203T211244Z
UID:22524-1782723600-1783013400@www.frostscience.org
SUMMARY:Summer Camp: Astro Engineers
DESCRIPTION:Design\, create and reach for the stars.
URL:https://www.frostscience.org/event/summer-camp-astro-engineers-week-4/
LOCATION:Florida
CATEGORIES:Camp
ATTACH;FMTTYPE=image/png:https://www.frostscience.org/wp-content/uploads/2026/01/Week-4-Astro-Engineers-Feature-Image.png
END:VEVENT
BEGIN:VEVENT
DTSTART;TZID=America/New_York:20260629T090000
DTEND;TZID=America/New_York:20260702T173000
DTSTAMP:20260419T113048
CREATED:20260203T220110Z
LAST-MODIFIED:20260204T225817Z
UID:22604-1782723600-1783013400@www.frostscience.org
SUMMARY:Camp Curiosity: Chemical Connections
DESCRIPTION:Enjoy a reaction-packed week of molecules\, matter\, and all things chemistry.
URL:https://www.frostscience.org/event/camp-curiosity-chemical-connections/
LOCATION:Florida
CATEGORIES:Camp
ATTACH;FMTTYPE=image/jpeg:https://www.frostscience.org/wp-content/uploads/2026/02/CC-Chemical-Connections-800-x-800.jpg
END:VEVENT
BEGIN:VEVENT
DTSTART;VALUE=DATE:20260705
DTEND;VALUE=DATE:20260712
DTSTAMP:20260419T113048
CREATED:20260227T220200Z
LAST-MODIFIED:20260227T224909Z
UID:22703-1783209600-1783814399@www.frostscience.org
SUMMARY:Digging Expedition
DESCRIPTION:Digging Expedition: Week 2
URL:https://www.frostscience.org/event/digging-expedition-week-2/
LOCATION:Havre\, Montana\, Havre\, MT\, 59501\, United States
CATEGORIES:Camp
ATTACH;FMTTYPE=image/png:https://www.frostscience.org/wp-content/uploads/2026/02/New-Week-2-Digging-Expedition-Feature-Image.png
GEO:48.549999;-109.6840887
END:VEVENT
BEGIN:VEVENT
DTSTART;TZID=America/New_York:20260706T090000
DTEND;TZID=America/New_York:20260710T173000
DTSTAMP:20260419T113048
CREATED:20260203T161302Z
LAST-MODIFIED:20260203T161302Z
UID:22529-1783328400-1783704600@www.frostscience.org
SUMMARY:Summer Camp: Rock Solid Science
DESCRIPTION:Uncover Earth’s past through rocks and fossils.
URL:https://www.frostscience.org/event/summer-camp-rock-solid-science/
LOCATION:Florida
CATEGORIES:Camp
ATTACH;FMTTYPE=image/jpeg:https://www.frostscience.org/wp-content/uploads/2026/01/Summer-Camp-2026-rock-solid-science-800-x-800.jpg
END:VEVENT
BEGIN:VEVENT
DTSTART;TZID=America/New_York:20260706T090000
DTEND;TZID=America/New_York:20260710T173000
DTSTAMP:20260419T113048
CREATED:20260203T221235Z
LAST-MODIFIED:20260203T221300Z
UID:22618-1783328400-1783704600@www.frostscience.org
SUMMARY:Camp Curiosity: Rock Solid Science
DESCRIPTION:Uncover Earth’s past through rocks and fossils.
URL:https://www.frostscience.org/event/camp-curiosity-rock-solid-science/
LOCATION:Florida
CATEGORIES:Camp
ATTACH;FMTTYPE=image/jpeg:https://www.frostscience.org/wp-content/uploads/2026/02/CC-Rock-Solid-Science-800-x-800.jpg
END:VEVENT
BEGIN:VEVENT
DTSTART;TZID=America/New_York:20260713T090000
DTEND;TZID=America/New_York:20260717T173000
DTSTAMP:20260419T113048
CREATED:20260203T161534Z
LAST-MODIFIED:20260203T161534Z
UID:22530-1783933200-1784309400@www.frostscience.org
SUMMARY:Summer Camp: Chemical Connections
DESCRIPTION:From molecules to muscles\, discover chemistry in action.
URL:https://www.frostscience.org/event/summer-camp-chemical-connections-week-6/
LOCATION:Florida
CATEGORIES:Camp
ATTACH;FMTTYPE=image/png:https://www.frostscience.org/wp-content/uploads/2026/01/Week-6-Chemical-Connections-Feature-Image.png
END:VEVENT
BEGIN:VEVENT
DTSTART;TZID=America/New_York:20260713T090000
DTEND;TZID=America/New_York:20260717T173000
DTSTAMP:20260419T113048
CREATED:20260203T222255Z
LAST-MODIFIED:20260204T225853Z
UID:22621-1783933200-1784309400@www.frostscience.org
SUMMARY:Camp Curiosity: Astro Engineers
DESCRIPTION:Design\, create and reach for the stars.
URL:https://www.frostscience.org/event/camp-curiosity-astro-engineers-week-6/
LOCATION:Florida
CATEGORIES:Camp
ATTACH;FMTTYPE=image/jpeg:https://www.frostscience.org/wp-content/uploads/2026/02/CC-Astro-Engineers-800-X-800.jpg
END:VEVENT
BEGIN:VEVENT
DTSTART;TZID=America/New_York:20260720T090000
DTEND;TZID=America/New_York:20260724T173000
DTSTAMP:20260419T113048
CREATED:20260203T164313Z
LAST-MODIFIED:20260203T164313Z
UID:22533-1784538000-1784914200@www.frostscience.org
SUMMARY:Summer Camp: Reef to Deep
DESCRIPTION:Descend into the glowing world of corals and the deep sea.
URL:https://www.frostscience.org/event/summer-camp-reef-to-deep-week-7/
LOCATION:Florida
CATEGORIES:Camp
ATTACH;FMTTYPE=image/png:https://www.frostscience.org/wp-content/uploads/2026/01/Week-7-Reef-to-Deep-Feature-Image.png
END:VEVENT
BEGIN:VEVENT
DTSTART;TZID=America/New_York:20260720T090000
DTEND;TZID=America/New_York:20260724T173000
DTSTAMP:20260419T113048
CREATED:20260203T222805Z
LAST-MODIFIED:20260204T230643Z
UID:22624-1784538000-1784914200@www.frostscience.org
SUMMARY:Camp Curiosity: Robo Academy
DESCRIPTION:Build\, code\, and tinker with technology all week long.
URL:https://www.frostscience.org/event/camp-curiosity-robo-academy-week-7/
LOCATION:Florida
CATEGORIES:Camp
ATTACH;FMTTYPE=image/jpeg:https://www.frostscience.org/wp-content/uploads/2026/02/Robo-Academy-Week-7-800x800-1.jpg
END:VEVENT
BEGIN:VEVENT
DTSTART;TZID=America/New_York:20260727T090000
DTEND;TZID=America/New_York:20260731T173000
DTSTAMP:20260419T113048
CREATED:20260203T161746Z
LAST-MODIFIED:20260203T161746Z
UID:22536-1785142800-1785519000@www.frostscience.org
SUMMARY:Summer Camp: Robo Academy
DESCRIPTION:Build\, code\, and tinker with technology all week long.
URL:https://www.frostscience.org/event/summer-camp-robo-academy-week-8/
LOCATION:Florida
CATEGORIES:Camp
ATTACH;FMTTYPE=image/png:https://www.frostscience.org/wp-content/uploads/2026/01/Week-8-Robo-Academy-Feature-Image.png
END:VEVENT
BEGIN:VEVENT
DTSTART;TZID=America/New_York:20260727T090000
DTEND;TZID=America/New_York:20260731T173000
DTSTAMP:20260419T113048
CREATED:20260204T011208Z
LAST-MODIFIED:20260204T225948Z
UID:22627-1785142800-1785519000@www.frostscience.org
SUMMARY:Camp Curiosity: Reef to Deep
DESCRIPTION:Descend into the glowing world of corals and the deep sea.
URL:https://www.frostscience.org/event/camp-curiosity-reef-to-deep-week-8/
LOCATION:Florida
CATEGORIES:Camp
ATTACH;FMTTYPE=image/jpeg:https://www.frostscience.org/wp-content/uploads/2026/02/CC-Reef-to-Deep-800-x-800.jpg
END:VEVENT
BEGIN:VEVENT
DTSTART;VALUE=DATE:20260802
DTEND;VALUE=DATE:20260809
DTSTAMP:20260419T113048
CREATED:20260227T220231Z
LAST-MODIFIED:20260227T225055Z
UID:22706-1785628800-1786233599@www.frostscience.org
SUMMARY:Digging Expedition
DESCRIPTION:Digging Expedition: Week 3
URL:https://www.frostscience.org/event/digging-expedition-week-3/
LOCATION:Havre\, Montana\, Havre\, MT\, 59501\, United States
CATEGORIES:Camp
ATTACH;FMTTYPE=image/png:https://www.frostscience.org/wp-content/uploads/2026/02/Week-3-Digging-Expedition-Event-Page-Header.png
GEO:48.549999;-109.6840887
END:VEVENT
BEGIN:VEVENT
DTSTART;TZID=America/New_York:20260803T090000
DTEND;TZID=America/New_York:20260807T173000
DTSTAMP:20260419T113048
CREATED:20260203T165414Z
LAST-MODIFIED:20260204T162438Z
UID:22539-1785747600-1786123800@www.frostscience.org
SUMMARY:Summer Camp: Astro Engineers
DESCRIPTION:Design\, create and reach for the stars.
URL:https://www.frostscience.org/event/summer-camp-chemical-connections-week-9/
LOCATION:Florida
CATEGORIES:Camp
ATTACH;FMTTYPE=image/jpeg:https://www.frostscience.org/wp-content/uploads/2026/02/Astro-Engineers-Week-9.jpg
END:VEVENT
BEGIN:VEVENT
DTSTART;TZID=America/New_York:20260803T090000
DTEND;TZID=America/New_York:20260807T173000
DTSTAMP:20260419T113048
CREATED:20260204T011929Z
LAST-MODIFIED:20260204T230332Z
UID:22630-1785747600-1786123800@www.frostscience.org
SUMMARY:Camp Curiosity: Chemical Connections
DESCRIPTION:Enjoy a reaction-packed week of molecules\, matter\, and all things chemistry.
URL:https://www.frostscience.org/event/camp-curiosity-chemical-connections-week-9/
LOCATION:Florida
CATEGORIES:Camp
ATTACH;FMTTYPE=image/jpeg:https://www.frostscience.org/wp-content/uploads/2026/02/CC-Chemical-Connections-Week-9-800-x-800.jpg
END:VEVENT
END:VCALENDAR