BEGIN:VCALENDAR
VERSION:2.0
PRODID:-//Frost Science - ECPv6.0.12//NONSGML v1.0//EN
CALSCALE:GREGORIAN
METHOD:PUBLISH
X-WR-CALNAME:Frost Science
X-ORIGINAL-URL:https://www.frostscience.org
X-WR-CALDESC:Events for Frost Science
REFRESH-INTERVAL;VALUE=DURATION:PT1H
X-Robots-Tag:noindex
X-PUBLISHED-TTL:PT1H
BEGIN:VTIMEZONE
TZID:America/New_York
BEGIN:DAYLIGHT
TZOFFSETFROM:-0500
TZOFFSETTO:-0400
TZNAME:EDT
DTSTART:20240310T070000
END:DAYLIGHT
BEGIN:STANDARD
TZOFFSETFROM:-0400
TZOFFSETTO:-0500
TZNAME:EST
DTSTART:20241103T060000
END:STANDARD
END:VTIMEZONE
BEGIN:VEVENT
DTSTART;TZID=America/New_York:20240207T103000
DTEND;TZID=America/New_York:20240207T113000
DTSTAMP:20240205T063035
CREATED:20230928T174719Z
LAST-MODIFIED:20230929T132315Z
UID:18848-1707301800-1707305400@www.frostscience.org
SUMMARY:Mini-Me Science: Jurassic Imprints
DESCRIPTION:Calling mini paleontologists! Let’s learn the principles of paleontology together.
URL:https://www.frostscience.org/event/mini-me-science-jurassic-imprints-feb-7/
LOCATION:Phillip and Patricia Frost Museum of Science\, 1101 Biscayne Blvd\, Miami\, FL\, 33132\, United States
CATEGORIES:Special Experiences
ATTACH;FMTTYPE=image/png:https://www.frostscience.org/wp-content/uploads/2023/09/February-Jurassic-Imprints.png
END:VEVENT
BEGIN:VEVENT
DTSTART;TZID=America/New_York:20240210T190000
DTEND;TZID=America/New_York:20240210T230000
DTSTAMP:20240205T063035
CREATED:20230926T125751Z
LAST-MODIFIED:20231005T133701Z
UID:17985-1707591600-1707606000@www.frostscience.org
SUMMARY:Laser Evening
DESCRIPTION:Fleetwood Mac\, Michael Jackson\, Taylor Swift\, and EDM                
URL:https://www.frostscience.org/event/laser-evening-feb-10/
LOCATION:Phillip and Patricia Frost Museum of Science\, 1101 Biscayne Blvd\, Miami\, FL\, 33132\, United States
CATEGORIES:Social Events
ATTACH;FMTTYPE=image/jpeg:https://www.frostscience.org/wp-content/uploads/2023/09/Fleetwood-Mac-Hold-Frost-Science-Website-Image-1920x1080-1.jpg
END:VEVENT
BEGIN:VEVENT
DTSTART;TZID=America/New_York:20240211T103000
DTEND;TZID=America/New_York:20240211T113000
DTSTAMP:20240205T063035
CREATED:20230928T175246Z
LAST-MODIFIED:20230929T132346Z
UID:18852-1707647400-1707651000@www.frostscience.org
SUMMARY:Mini-Me Science: Jurassic Imprints
DESCRIPTION:Calling mini paleontologists! Let’s learn the principles of paleontology together.
URL:https://www.frostscience.org/event/mini-me-science-jurassic-imprints-feb-11/
LOCATION:Phillip and Patricia Frost Museum of Science\, 1101 Biscayne Blvd\, Miami\, FL\, 33132\, United States
CATEGORIES:Special Experiences
ATTACH;FMTTYPE=image/png:https://www.frostscience.org/wp-content/uploads/2023/09/February-Jurassic-Imprints.png
END:VEVENT
BEGIN:VEVENT
DTSTART;TZID=America/New_York:20240211T130000
DTEND;TZID=America/New_York:20240211T150000
DTSTAMP:20240205T063035
CREATED:20231207T173119Z
LAST-MODIFIED:20240131T185529Z
UID:19127-1707656400-1707663600@www.frostscience.org
SUMMARY:Tech Lab: Video Game Design for Beginners
DESCRIPTION:Dive into the basics of video game design\, and learn about the future of gaming technology.
URL:https://www.frostscience.org/event/tech-lab-video-game-design-for-beginners/
CATEGORIES:Class,Special Experiences
ATTACH;FMTTYPE=image/png:https://www.frostscience.org/wp-content/uploads/2023/12/Tech-Lab-images-Feb-April.png
END:VEVENT
BEGIN:VEVENT
DTSTART;TZID=America/New_York:20240217T090000
DTEND;TZID=America/New_York:20240217T110000
DTSTAMP:20240205T063035
CREATED:20240129T162446Z
LAST-MODIFIED:20240202T162153Z
UID:19267-1708160400-1708167600@www.frostscience.org
SUMMARY:MUVE Volunteer Workday
DESCRIPTION:Join MUVE in enhancing our coastal habitat through citizen science at Virginia Key Beach North Point Park. 
URL:https://www.frostscience.org/event/muve-volunteer-workday-2-17/
CATEGORIES:Volunteer
ATTACH;FMTTYPE=image/png:https://www.frostscience.org/wp-content/uploads/2024/01/Live@Frost-Science-Sauro-throat-Respiratory-Infections-in-Dinosaurs-3.png
END:VEVENT
BEGIN:VEVENT
DTSTART;TZID=America/New_York:20240221T160000
DTEND;TZID=America/New_York:20240221T173000
DTSTAMP:20240205T063035
CREATED:20230913T183656Z
LAST-MODIFIED:20230915T154147Z
UID:18764-1708531200-1708536600@www.frostscience.org
SUMMARY:Just for Me: Heart Pumping
DESCRIPTION:Discover the heart the sensory-friendly way!
URL:https://www.frostscience.org/event/just-for-me-heart-pumping-feb21/
CATEGORIES:Special Experiences
ATTACH;FMTTYPE=image/jpeg:https://www.frostscience.org/wp-content/uploads/2023/09/Just-for-Me-Headers-3.jpg
END:VEVENT
BEGIN:VEVENT
DTSTART;TZID=America/New_York:20240221T190000
DTEND;TZID=America/New_York:20240221T200000
DTSTAMP:20240205T063035
CREATED:20231213T163738Z
LAST-MODIFIED:20231214T195707Z
UID:19147-1708542000-1708545600@www.frostscience.org
SUMMARY:LIVE@Frost Science: A Journey From Guinness World-Record Aviation to Transformative STEM Education
DESCRIPTION:Take flight and inspire the next generation of STEM NatGeo Explorer Captain Barrington Irving
URL:https://www.frostscience.org/event/livefrost-science-a-journey-from-guinness-world-record-aviation-to-transformative-stem-education/
CATEGORIES:Lecture / Talk
ATTACH;FMTTYPE=image/png:https://www.frostscience.org/wp-content/uploads/2023/12/224-LIVE@Frost-Science-Captain-Barrington-Irving-.png
END:VEVENT
BEGIN:VEVENT
DTSTART;TZID=America/New_York:20240224T100000
DTEND;TZID=America/New_York:20240224T113000
DTSTAMP:20240205T063035
CREATED:20230913T183803Z
LAST-MODIFIED:20230915T154210Z
UID:18766-1708768800-1708774200@www.frostscience.org
SUMMARY:Just for Me: Heart Pumping
DESCRIPTION:Discover the heart the sensory-friendly way!
URL:https://www.frostscience.org/event/just-for-me-heart-pumping-feb24/
CATEGORIES:Special Experiences
ATTACH;FMTTYPE=image/jpeg:https://www.frostscience.org/wp-content/uploads/2023/09/Just-for-Me-Headers-3.jpg
END:VEVENT
BEGIN:VEVENT
DTSTART;TZID=America/New_York:20240224T100000
DTEND;TZID=America/New_York:20240224T113000
DTSTAMP:20240205T063035
CREATED:20240119T225709Z
LAST-MODIFIED:20240129T165848Z
UID:19255-1708768800-1708774200@www.frostscience.org
SUMMARY:Members-Only Town Hall and Community Conversation
DESCRIPTION:Join us for a morning of discovery and dialogue with Frost Science members.
URL:https://www.frostscience.org/event/members-only-town-hall-and-community-conversation-feb-2024/
LOCATION:Phillip and Patricia Frost Museum of Science\, 1101 Biscayne Blvd\, Miami\, FL\, 33132\, United States
CATEGORIES:Special Experiences
ATTACH;FMTTYPE=image/jpeg:https://www.frostscience.org/wp-content/uploads/2024/01/Untitled-design-12-scaled.jpg
END:VEVENT
BEGIN:VEVENT
DTSTART;TZID=America/New_York:20240302T110000
DTEND;TZID=America/New_York:20240302T160000
DTSTAMP:20240205T063035
CREATED:20230720T184008Z
LAST-MODIFIED:20240125T181805Z
UID:18445-1709377200-1709395200@www.frostscience.org
SUMMARY:Technology and Engineering Day
DESCRIPTION:Explore the latest innovations in tech & engineering.  
URL:https://www.frostscience.org/event/tech-engineering-day-2024/
LOCATION:Phillip and Patricia Frost Museum of Science\, 1101 Biscayne Blvd\, Miami\, FL\, 33132\, United States
CATEGORIES:Special Experiences
ATTACH;FMTTYPE=image/jpeg:https://www.frostscience.org/wp-content/uploads/2023/07/7th-Annual-Spooky-Science-Monster-Mash-Website-Image-1920x1080-2.jpg
END:VEVENT
BEGIN:VEVENT
DTSTART;TZID=America/New_York:20240308T190000
DTEND;TZID=America/New_York:20240308T230000
DTSTAMP:20240205T063035
CREATED:20231128T153728Z
LAST-MODIFIED:20231128T155113Z
UID:18913-1709924400-1709938800@www.frostscience.org
SUMMARY:Laser Evening
DESCRIPTION:K-Pop\, Laser Movie Magic\, Bad Bunny\, and Dark Side of the Moon.
URL:https://www.frostscience.org/event/laser-evening-march-8/
LOCATION:Phillip and Patricia Frost Museum of Science\, 1101 Biscayne Blvd\, Miami\, FL\, 33132\, United States
CATEGORIES:Social Events
ATTACH;FMTTYPE=image/jpeg:https://www.frostscience.org/wp-content/uploads/2023/11/Laser-Movie-Magic-Laser-Evening-Show-2023-800x800-1.jpg
END:VEVENT
BEGIN:VEVENT
DTSTART;TZID=America/New_York:20240313T103000
DTEND;TZID=America/New_York:20240313T113000
DTSTAMP:20240205T063035
CREATED:20230928T180223Z
LAST-MODIFIED:20240118T150836Z
UID:18853-1710325800-1710329400@www.frostscience.org
SUMMARY:Mini-Me Science: Future Engineers
DESCRIPTION:Young engineers will get creative and build their own “marble run.”
URL:https://www.frostscience.org/event/mini-me-science-future-engineers-mar-13/
LOCATION:Phillip and Patricia Frost Museum of Science\, 1101 Biscayne Blvd\, Miami\, FL\, 33132\, United States
CATEGORIES:Special Experiences
ATTACH;FMTTYPE=image/jpeg:https://www.frostscience.org/wp-content/uploads/2023/09/5-1.jpg
END:VEVENT
BEGIN:VEVENT
DTSTART;TZID=America/New_York:20240313T190000
DTEND;TZID=America/New_York:20240313T200000
DTSTAMP:20240205T063035
CREATED:20240129T212339Z
LAST-MODIFIED:20240129T220211Z
UID:19271-1710356400-1710360000@www.frostscience.org
SUMMARY:LIVE@Frost Science: Sharks are Snowbirds Too!
DESCRIPTION:Dive into the science behind shark migration with Dr. Stephen Kajiura.
URL:https://www.frostscience.org/event/livefrost-science-sharks-are-snowbirds-too/
CATEGORIES:Lecture / Talk
ATTACH;FMTTYPE=image/jpeg:https://www.frostscience.org/wp-content/uploads/2024/01/NEF_5939-scaled-e1706562806723.jpg
END:VEVENT
BEGIN:VEVENT
DTSTART;TZID=America/New_York:20240317T103000
DTEND;TZID=America/New_York:20240317T113000
DTSTAMP:20240205T063035
CREATED:20230928T180423Z
LAST-MODIFIED:20240118T150948Z
UID:18856-1710671400-1710675000@www.frostscience.org
SUMMARY:Mini-Me Science: Future Engineers
DESCRIPTION:Young engineers will get creative and build their own “marble run.”
URL:https://www.frostscience.org/event/mini-me-science-future-engineers-mar-17/
LOCATION:Phillip and Patricia Frost Museum of Science\, 1101 Biscayne Blvd\, Miami\, FL\, 33132\, United States
CATEGORIES:Special Experiences
ATTACH;FMTTYPE=image/jpeg:https://www.frostscience.org/wp-content/uploads/2023/09/5-1.jpg
END:VEVENT
BEGIN:VEVENT
DTSTART;TZID=America/New_York:20240320T160000
DTEND;TZID=America/New_York:20240320T173000
DTSTAMP:20240205T063035
CREATED:20230920T181224Z
LAST-MODIFIED:20230920T185347Z
UID:18794-1710950400-1710955800@www.frostscience.org
SUMMARY:Just for Me: Community Corals
DESCRIPTION:Discover corals the sensory-friendly way!
URL:https://www.frostscience.org/event/just-for-me-corals-mar20/
CATEGORIES:Special Experiences
ATTACH;FMTTYPE=image/jpeg:https://www.frostscience.org/wp-content/uploads/2023/09/Just-for-Me-Headers-4.jpg
END:VEVENT
BEGIN:VEVENT
DTSTART;TZID=America/New_York:20240323T100000
DTEND;TZID=America/New_York:20240323T113000
DTSTAMP:20240205T063035
CREATED:20230920T181551Z
LAST-MODIFIED:20230920T185409Z
UID:18797-1711188000-1711193400@www.frostscience.org
SUMMARY:Just for Me: Community Corals
DESCRIPTION:Discover corals the sensory-friendly way!
URL:https://www.frostscience.org/event/just-for-me-community-corals-mar23/
CATEGORIES:Special Experiences
ATTACH;FMTTYPE=image/jpeg:https://www.frostscience.org/wp-content/uploads/2023/09/Just-for-Me-Headers-4.jpg
END:VEVENT
BEGIN:VEVENT
DTSTART;TZID=America/New_York:20240325T090000
DTEND;TZID=America/New_York:20240329T173000
DTSTAMP:20240205T063035
CREATED:20231211T223423Z
LAST-MODIFIED:20240122T180101Z
UID:19137-1711357200-1711733400@www.frostscience.org
SUMMARY:Spring Camp: Environmental Engineers
DESCRIPTION:Explore cutting-edge technology and help engineer solutions for a healthier planet this spring break.
URL:https://www.frostscience.org/event/spring-camp-environmental-engineers/
LOCATION:Phillip and Patricia Frost Museum of Science\, 1101 Biscayne Blvd\, Miami\, FL\, 33132\, United States
CATEGORIES:Camp
ATTACH;FMTTYPE=image/jpeg:https://www.frostscience.org/wp-content/uploads/2023/12/Frost-Science-Spring-Camp-2024-Web-Featured-Image-800-x-800-px.jpg
END:VEVENT
BEGIN:VEVENT
DTSTART;TZID=America/New_York:20240325T090000
DTEND;TZID=America/New_York:20240329T173000
DTSTAMP:20240205T063035
CREATED:20240111T190213Z
LAST-MODIFIED:20240123T155756Z
UID:19236-1711357200-1711733400@www.frostscience.org
SUMMARY:Counselor-in-Training (CIT) Spring Camp
DESCRIPTION:The Counselor-in-Training (CIT) program invites 12-15-year-olds to gain leadership in STEM skills with us.
URL:https://www.frostscience.org/event/counselor-in-training-cit-spring-camp/
LOCATION:Phillip and Patricia Frost Museum of Science\, 1101 Biscayne Blvd\, Miami\, FL\, 33132\, United States
CATEGORIES:Camp
ATTACH;FMTTYPE=image/jpeg:https://www.frostscience.org/wp-content/uploads/2024/01/CIT-Spring-Camp-Web-Image-2024-800x800-1.jpg
END:VEVENT
BEGIN:VEVENT
DTSTART;TZID=America/New_York:20240404T190000
DTEND;TZID=America/New_York:20240404T220000
DTSTAMP:20240205T063035
CREATED:20240123T172643Z
LAST-MODIFIED:20240130T182410Z
UID:19258-1712257200-1712268000@www.frostscience.org
SUMMARY:nightLAB: Sounds of the Ocean
DESCRIPTION:Experiment and explore during nightLAB.
URL:https://www.frostscience.org/event/nightlab-sounds-of-the-ocean/
CATEGORIES:Special Experiences
ATTACH;FMTTYPE=image/jpeg:https://www.frostscience.org/wp-content/uploads/2024/01/nightLAB-April-2024-Sounds-of-the-Ocean-Web-Image-800x800-1.jpg
END:VEVENT
BEGIN:VEVENT
DTSTART;TZID=America/New_York:20240410T090000
DTEND;TZID=America/New_York:20240410T150000
DTSTAMP:20240205T063035
CREATED:20240111T203402Z
LAST-MODIFIED:20240122T201017Z
UID:19241-1712739600-1712761200@www.frostscience.org
SUMMARY:Educator Professional Learning with Blue Missions
DESCRIPTION:Explore a solutions-based approach to teaching climate change.  
URL:https://www.frostscience.org/event/educator-professional-learning-with-blue-missions/
LOCATION:Phillip and Patricia Frost Museum of Science\, 1101 Biscayne Blvd\, Miami\, FL\, 33132\, United States
CATEGORIES:Special Experiences
ATTACH;FMTTYPE=image/jpeg:https://www.frostscience.org/wp-content/uploads/2024/01/Blue-Missions-PD-April-2024-Web-image-800-x-800-px.jpg
END:VEVENT
BEGIN:VEVENT
DTSTART;TZID=America/New_York:20240410T103000
DTEND;TZID=America/New_York:20240410T113000
DTSTAMP:20240205T063035
CREATED:20230929T152004Z
LAST-MODIFIED:20231004T175847Z
UID:18874-1712745000-1712748600@www.frostscience.org
SUMMARY:Mini-Me Science: Saving Corals
DESCRIPTION:Let’s dive into conservation!
URL:https://www.frostscience.org/event/mini-me-science-saving-corals-apr-10/
LOCATION:Phillip and Patricia Frost Museum of Science\, 1101 Biscayne Blvd\, Miami\, FL\, 33132\, United States
CATEGORIES:Special Experiences
ATTACH;FMTTYPE=image/jpeg:https://www.frostscience.org/wp-content/uploads/2023/09/6.jpg
END:VEVENT
BEGIN:VEVENT
DTSTART;TZID=America/New_York:20240413T190000
DTEND;TZID=America/New_York:20240413T230000
DTSTAMP:20240205T063035
CREATED:20231206T204213Z
LAST-MODIFIED:20240108T164038Z
UID:19117-1713034800-1713049200@www.frostscience.org
SUMMARY:Laser Evening
DESCRIPTION:Beyonce\, Taylor Swift\, Lady Gaga\, Elton John\, and Queen.
URL:https://www.frostscience.org/event/laser-evening-april-2024/
LOCATION:Phillip and Patricia Frost Museum of Science\, 1101 Biscayne Blvd\, Miami\, FL\, 33132\, United States
CATEGORIES:Social Events
ATTACH;FMTTYPE=image/png:https://www.frostscience.org/wp-content/uploads/2023/12/April.laser_.show_.png
END:VEVENT
BEGIN:VEVENT
DTSTART;TZID=America/New_York:20240414T103000
DTEND;TZID=America/New_York:20240414T113000
DTSTAMP:20240205T063035
CREATED:20230929T152456Z
LAST-MODIFIED:20231003T201750Z
UID:18876-1713090600-1713094200@www.frostscience.org
SUMMARY:Mini-Me Science: Saving Corals
DESCRIPTION:Let’s dive into conservation!
URL:https://www.frostscience.org/event/mini-me-science-saving-corals-apr-14/
LOCATION:Phillip and Patricia Frost Museum of Science\, 1101 Biscayne Blvd\, Miami\, FL\, 33132\, United States
CATEGORIES:Special Experiences
ATTACH;FMTTYPE=image/jpeg:https://www.frostscience.org/wp-content/uploads/2023/09/6.jpg
END:VEVENT
BEGIN:VEVENT
DTSTART;TZID=America/New_York:20240414T130000
DTEND;TZID=America/New_York:20240414T150000
DTSTAMP:20240205T063035
CREATED:20231207T175442Z
LAST-MODIFIED:20231214T151829Z
UID:19128-1713099600-1713106800@www.frostscience.org
SUMMARY:Tech Lab: Designing the Future for Climate Change
DESCRIPTION:Discover sustainable energy solutions for our changing world.
URL:https://www.frostscience.org/event/tech-lab-designing-the-future-for-climate-change/
CATEGORIES:Class,Special Experiences
ATTACH;FMTTYPE=image/png:https://www.frostscience.org/wp-content/uploads/2023/12/414-Tech-Lab-2.png
END:VEVENT
BEGIN:VEVENT
DTSTART;TZID=America/New_York:20240417T160000
DTEND;TZID=America/New_York:20240417T173000
DTSTAMP:20240205T063035
CREATED:20230920T182020Z
LAST-MODIFIED:20230920T185436Z
UID:18798-1713369600-1713375000@www.frostscience.org
SUMMARY:Just for Me: What's That Matter?
DESCRIPTION:Discover the states of matter the sensory-friendly way!
URL:https://www.frostscience.org/event/just-for-me-matter-apr17/
CATEGORIES:Special Experiences
ATTACH;FMTTYPE=image/jpeg:https://www.frostscience.org/wp-content/uploads/2023/09/Just-for-Me-Headers-5.jpg
END:VEVENT
BEGIN:VEVENT
DTSTART;TZID=America/New_York:20240420T100000
DTEND;TZID=America/New_York:20240420T113000
DTSTAMP:20240205T063035
CREATED:20230920T182141Z
LAST-MODIFIED:20230920T185510Z
UID:18800-1713607200-1713612600@www.frostscience.org
SUMMARY:Just for Me: What's That Matter?
DESCRIPTION:Discover the states of matter the sensory-friendly way!
URL:https://www.frostscience.org/event/just-for-me-matter-apr20/
CATEGORIES:Special Experiences
ATTACH;FMTTYPE=image/jpeg:https://www.frostscience.org/wp-content/uploads/2023/09/Just-for-Me-Headers-5.jpg
END:VEVENT
BEGIN:VEVENT
DTSTART;TZID=America/New_York:20240504T090000
DTEND;TZID=America/New_York:20240504T130000
DTSTAMP:20240205T063035
CREATED:20231030T174831Z
LAST-MODIFIED:20231117T181013Z
UID:18989-1714813200-1714827600@www.frostscience.org
SUMMARY:Girl Scouts Space Science Day
DESCRIPTION:An introduction to the exciting world of space science!
URL:https://www.frostscience.org/event/girl-scouts-space-science-day/
CATEGORIES:Special Experiences
ATTACH;FMTTYPE=image/jpeg:https://www.frostscience.org/wp-content/uploads/2023/10/Girl-Scouts-Space-Science-Header.jpg
END:VEVENT
BEGIN:VEVENT
DTSTART;TZID=America/New_York:20240508T103000
DTEND;TZID=America/New_York:20240508T113000
DTSTAMP:20240205T063035
CREATED:20230929T162058Z
LAST-MODIFIED:20231003T201808Z
UID:18877-1715164200-1715167800@www.frostscience.org
SUMMARY:Mini-Me Science: Magnetic Magic
DESCRIPTION:Join forces with little physicists and discover the magic of magnets!
URL:https://www.frostscience.org/event/mini-me-science-magnetic-magic-may-8/
LOCATION:Phillip and Patricia Frost Museum of Science\, 1101 Biscayne Blvd\, Miami\, FL\, 33132\, United States
CATEGORIES:Special Experiences
ATTACH;FMTTYPE=image/png:https://www.frostscience.org/wp-content/uploads/2023/09/Mini-Me-Science-Headers.png
END:VEVENT
BEGIN:VEVENT
DTSTART;TZID=America/New_York:20240512T103000
DTEND;TZID=America/New_York:20240512T113000
DTSTAMP:20240205T063035
CREATED:20230929T162258Z
LAST-MODIFIED:20231003T201825Z
UID:18880-1715509800-1715513400@www.frostscience.org
SUMMARY:Mini-Me Science: Magnetic Magic
DESCRIPTION:Join forces with little physicists and discover the magic of magnets!
URL:https://www.frostscience.org/event/mini-me-science-magnetic-magic-may-12/
LOCATION:Phillip and Patricia Frost Museum of Science\, 1101 Biscayne Blvd\, Miami\, FL\, 33132\, United States
CATEGORIES:Special Experiences
ATTACH;FMTTYPE=image/png:https://www.frostscience.org/wp-content/uploads/2023/09/Mini-Me-Science-Headers.png
END:VEVENT
END:VCALENDAR