BEGIN:VCALENDAR
VERSION:2.0
PRODID:-//Frost Science - ECPv6.7.0//NONSGML v1.0//EN
CALSCALE:GREGORIAN
METHOD:PUBLISH
X-WR-CALNAME:Frost Science
X-ORIGINAL-URL:https://www.frostscience.org
X-WR-CALDESC:Events for Frost Science
REFRESH-INTERVAL;VALUE=DURATION:PT1H
X-Robots-Tag:noindex
X-PUBLISHED-TTL:PT1H
BEGIN:VTIMEZONE
TZID:America/New_York
BEGIN:DAYLIGHT
TZOFFSETFROM:-0500
TZOFFSETTO:-0400
TZNAME:EDT
DTSTART:20250309T070000
END:DAYLIGHT
BEGIN:STANDARD
TZOFFSETFROM:-0400
TZOFFSETTO:-0500
TZNAME:EST
DTSTART:20251102T060000
END:STANDARD
END:VTIMEZONE
BEGIN:VEVENT
DTSTART;TZID=America/New_York:20250316T130000
DTEND;TZID=America/New_York:20250316T150000
DTSTAMP:20260425T122212
CREATED:20250122T233559Z
LAST-MODIFIED:20250314T150958Z
UID:21240-1742130000-1742137200@www.frostscience.org
SUMMARY:Tech Lab: How to Train Your AI
DESCRIPTION:Learn to train and test your very own machine learning model. 
URL:https://www.frostscience.org/event/tech-lab-how-to-train-your-ai-3-16/
CATEGORIES:Class,Special Experiences
ATTACH;FMTTYPE=image/png:https://www.frostscience.org/wp-content/uploads/2025/01/Feb-2025-tech-Lab.png
END:VEVENT
END:VCALENDAR