BEGIN:VCALENDAR
VERSION:2.0
PRODID:-//Frost Science - ECPv6.7.0//NONSGML v1.0//EN
CALSCALE:GREGORIAN
METHOD:PUBLISH
X-WR-CALNAME:Frost Science
X-ORIGINAL-URL:https://www.frostscience.org
X-WR-CALDESC:Events for Frost Science
REFRESH-INTERVAL;VALUE=DURATION:PT1H
X-Robots-Tag:noindex
X-PUBLISHED-TTL:PT1H
BEGIN:VTIMEZONE
TZID:America/New_York
BEGIN:DAYLIGHT
TZOFFSETFROM:-0500
TZOFFSETTO:-0400
TZNAME:EDT
DTSTART:20210314T070000
END:DAYLIGHT
BEGIN:STANDARD
TZOFFSETFROM:-0400
TZOFFSETTO:-0500
TZNAME:EST
DTSTART:20211107T060000
END:STANDARD
END:VTIMEZONE
BEGIN:VEVENT
DTSTART;TZID=America/New_York:20210802T090000
DTEND;TZID=America/New_York:20210806T180000
DTSTAMP:20260423T035315
CREATED:20210308T185451Z
LAST-MODIFIED:20210423T190014Z
UID:13892-1627894800-1628272800@www.frostscience.org
SUMMARY:Summer Camp 2021: Science of the Arts
DESCRIPTION:Paint\, dance\, and sing your way through this exciting camp designed to uncover the hidden science behind the arts while letting your creativity shine.
URL:https://www.frostscience.org/event/summer-camp-2021-science-of-the-arts/
CATEGORIES:Camp
ATTACH;FMTTYPE=image/jpeg:https://www.frostscience.org/wp-content/uploads/2021/03/science-of-the-arts-summer-camp-2021.jpg
END:VEVENT
END:VCALENDAR