BEGIN:VCALENDAR
VERSION:2.0
PRODID:-//Frost Science - ECPv6.7.0//NONSGML v1.0//EN
CALSCALE:GREGORIAN
METHOD:PUBLISH
X-WR-CALNAME:Frost Science
X-ORIGINAL-URL:https://www.frostscience.org
X-WR-CALDESC:Events for Frost Science
REFRESH-INTERVAL;VALUE=DURATION:PT1H
X-Robots-Tag:noindex
X-PUBLISHED-TTL:PT1H
BEGIN:VTIMEZONE
TZID:America/New_York
BEGIN:DAYLIGHT
TZOFFSETFROM:-0500
TZOFFSETTO:-0400
TZNAME:EDT
DTSTART:20210314T070000
END:DAYLIGHT
BEGIN:STANDARD
TZOFFSETFROM:-0400
TZOFFSETTO:-0500
TZNAME:EST
DTSTART:20211107T060000
END:STANDARD
END:VTIMEZONE
BEGIN:VEVENT
DTSTART;TZID=America/New_York:20210621T090000
DTEND;TZID=America/New_York:20210625T180000
DTSTAMP:20260424T204752
CREATED:20210415T142801Z
LAST-MODIFIED:20210603T215853Z
UID:14052-1624266000-1624644000@www.frostscience.org
SUMMARY:Summer Camp 2021: Marine Lab
DESCRIPTION:Dive into the science of marine biology to discover key animal adaptations necessary for survival from microscopic plankton to squids.
URL:https://www.frostscience.org/event/summer-camp-2021-marine-lab/
CATEGORIES:Camp
ATTACH;FMTTYPE=image/jpeg:https://www.frostscience.org/wp-content/uploads/2021/04/Frost-Science-Virtual-summer-camp-6-8TH-grade-marine-lab.jpg
END:VEVENT
END:VCALENDAR