BEGIN:VCALENDAR
VERSION:2.0
PRODID:-//Frost Science - ECPv6.7.0//NONSGML v1.0//EN
CALSCALE:GREGORIAN
METHOD:PUBLISH
X-WR-CALNAME:Frost Science
X-ORIGINAL-URL:https://www.frostscience.org
X-WR-CALDESC:Events for Frost Science
REFRESH-INTERVAL;VALUE=DURATION:PT1H
X-Robots-Tag:noindex
X-PUBLISHED-TTL:PT1H
BEGIN:VTIMEZONE
TZID:America/New_York
BEGIN:DAYLIGHT
TZOFFSETFROM:-0500
TZOFFSETTO:-0400
TZNAME:EDT
DTSTART:20210314T070000
END:DAYLIGHT
BEGIN:STANDARD
TZOFFSETFROM:-0400
TZOFFSETTO:-0500
TZNAME:EST
DTSTART:20211107T060000
END:STANDARD
END:VTIMEZONE
BEGIN:VEVENT
DTSTART;TZID=America/New_York:20211121T090000
DTEND;TZID=America/New_York:20211121T110000
DTSTAMP:20260420T043246
CREATED:20211027T165840Z
LAST-MODIFIED:20211108T211644Z
UID:14768-1637485200-1637492400@www.frostscience.org
SUMMARY:MUVE Volunteer Workday
DESCRIPTION:MUVE is excited to provide opportunities for our community to give back to critical coastal habitats through philanthropic-based restoration workdays in a safe environment.
URL:https://www.frostscience.org/event/muve-volunteer-workday-november-21/
LOCATION:Virginia Key North Point\, Arthur Lamb Jr Rd\, Miami\, FL\, 33149\, United States
CATEGORIES:Volunteer
ATTACH;FMTTYPE=image/jpeg:https://www.frostscience.org/wp-content/uploads/2021/10/MUVE-Featured-Image.jpg
GEO:25.739723;-80.157708
X-APPLE-STRUCTURED-LOCATION;VALUE=URI;X-ADDRESS=Virginia Key North Point Arthur Lamb Jr Rd Miami FL 33149 United States;X-APPLE-RADIUS=500;X-TITLE=Arthur Lamb Jr Rd:geo:-80.157708,25.739723
END:VEVENT
END:VCALENDAR