BEGIN:VCALENDAR
VERSION:2.0
PRODID:-//Frost Science - ECPv6.7.0//NONSGML v1.0//EN
CALSCALE:GREGORIAN
METHOD:PUBLISH
X-WR-CALNAME:Frost Science
X-ORIGINAL-URL:https://www.frostscience.org
X-WR-CALDESC:Events for Frost Science
REFRESH-INTERVAL;VALUE=DURATION:PT1H
X-Robots-Tag:noindex
X-PUBLISHED-TTL:PT1H
BEGIN:VTIMEZONE
TZID:America/New_York
BEGIN:DAYLIGHT
TZOFFSETFROM:-0500
TZOFFSETTO:-0400
TZNAME:EDT
DTSTART:20260308T070000
END:DAYLIGHT
BEGIN:STANDARD
TZOFFSETFROM:-0400
TZOFFSETTO:-0500
TZNAME:EST
DTSTART:20261101T060000
END:STANDARD
END:VTIMEZONE
BEGIN:VEVENT
DTSTART;TZID=America/New_York:20260307T120000
DTEND;TZID=America/New_York:20260307T133000
DTSTAMP:20260422T184638
CREATED:20260303T145726Z
LAST-MODIFIED:20260303T164916Z
UID:22724-1772884800-1772890200@www.frostscience.org
SUMMARY:Fly into Storytime with Lauren Sánchez Bezos
DESCRIPTION:Presented in partnership with Books & Books
URL:https://www.frostscience.org/event/fly-into-storytime-with-lauren-sanchez-bezos/
CATEGORIES:Special Experiences
ATTACH;FMTTYPE=image/jpeg:https://www.frostscience.org/wp-content/uploads/2026/03/The-Fly-Who-Flew-Under-the-Sea-800x800-1.jpg
END:VEVENT
END:VCALENDAR